BEGIN:VCALENDAR
VERSION:2.0
PRODID:-//LeGaye Law Firm - ECPv6.15.10//NONSGML v1.0//EN
CALSCALE:GREGORIAN
METHOD:PUBLISH
X-ORIGINAL-URL:https://www.legayelaw.com
X-WR-CALDESC:Events for LeGaye Law Firm
REFRESH-INTERVAL;VALUE=DURATION:PT1H
X-Robots-Tag:noindex
X-PUBLISHED-TTL:PT1H
BEGIN:VTIMEZONE
TZID:America/Chicago
BEGIN:DAYLIGHT
TZOFFSETFROM:-0600
TZOFFSETTO:-0500
TZNAME:CDT
DTSTART:20240310T080000
END:DAYLIGHT
BEGIN:STANDARD
TZOFFSETFROM:-0500
TZOFFSETTO:-0600
TZNAME:CST
DTSTART:20241103T070000
END:STANDARD
BEGIN:DAYLIGHT
TZOFFSETFROM:-0600
TZOFFSETTO:-0500
TZNAME:CDT
DTSTART:20250309T080000
END:DAYLIGHT
BEGIN:STANDARD
TZOFFSETFROM:-0500
TZOFFSETTO:-0600
TZNAME:CST
DTSTART:20251102T070000
END:STANDARD
BEGIN:DAYLIGHT
TZOFFSETFROM:-0600
TZOFFSETTO:-0500
TZNAME:CDT
DTSTART:20260308T080000
END:DAYLIGHT
BEGIN:STANDARD
TZOFFSETFROM:-0500
TZOFFSETTO:-0600
TZNAME:CST
DTSTART:20261101T070000
END:STANDARD
END:VTIMEZONE
BEGIN:VEVENT
DTSTART;VALUE=DATE:20251026
DTEND;VALUE=DATE:20251030
DTSTAMP:20260422T053237
CREATED:20250819T195536Z
LAST-MODIFIED:20250819T195536Z
UID:7462-1761436800-1761782399@www.legayelaw.com
SUMMARY:SILA – National Education Conference
DESCRIPTION:The Securities and Insurance Licensing Association (“SILA”) National Education Conference is a yearly event that provides education and networking opportunities for professionals in the insurance and securities licensing industries. The conference features industry speakers\, interactive sessions\, and an exhibitor fair.
URL:https://www.legayelaw.com/calendar/sila-national-education-conference-2/
LOCATION:New Orleans\, LA
CATEGORIES:Conferences
END:VEVENT
END:VCALENDAR