BEGIN:VCALENDAR
VERSION:2.0
PRODID:-//LeGaye Law Firm - ECPv6.15.10//NONSGML v1.0//EN
CALSCALE:GREGORIAN
METHOD:PUBLISH
X-WR-CALNAME:LeGaye Law Firm
X-ORIGINAL-URL:https://www.legayelaw.com
X-WR-CALDESC:Events for LeGaye Law Firm
REFRESH-INTERVAL;VALUE=DURATION:PT1H
X-Robots-Tag:noindex
X-PUBLISHED-TTL:PT1H
BEGIN:VTIMEZONE
TZID:America/Chicago
BEGIN:DAYLIGHT
TZOFFSETFROM:-0600
TZOFFSETTO:-0500
TZNAME:CDT
DTSTART:20250309T080000
END:DAYLIGHT
BEGIN:STANDARD
TZOFFSETFROM:-0500
TZOFFSETTO:-0600
TZNAME:CST
DTSTART:20251102T070000
END:STANDARD
BEGIN:DAYLIGHT
TZOFFSETFROM:-0600
TZOFFSETTO:-0500
TZNAME:CDT
DTSTART:20260308T080000
END:DAYLIGHT
BEGIN:STANDARD
TZOFFSETFROM:-0500
TZOFFSETTO:-0600
TZNAME:CST
DTSTART:20261101T070000
END:STANDARD
BEGIN:DAYLIGHT
TZOFFSETFROM:-0600
TZOFFSETTO:-0500
TZNAME:CDT
DTSTART:20270314T080000
END:DAYLIGHT
BEGIN:STANDARD
TZOFFSETFROM:-0500
TZOFFSETTO:-0600
TZNAME:CST
DTSTART:20271107T070000
END:STANDARD
END:VTIMEZONE
BEGIN:VEVENT
DTSTART;VALUE=DATE:20260127
DTEND;VALUE=DATE:20260128
DTSTAMP:20260421T233653
CREATED:20250117T185142Z
LAST-MODIFIED:20250117T185142Z
UID:7192-1769472000-1769558399@www.legayelaw.com
SUMMARY:Quarterly Supplemental Statement of Income (SSOI) (Quarter ending 12/31/2025)
DESCRIPTION:FINRA Rule 4524 requires each member firm to file a Supplemental Statement of Income (“SSOI”) within 20 business days after the end of each calendar quarter via the FINRA Gateway. The SSOI is designed to provide FINRA with greater detail regarding firm’s revenue and expenses.
URL:https://www.legayelaw.com/calendar/quarterly-supplemental-statement-of-income-ssoi-quarter-ending-12-31-2025/
CATEGORIES:Regulatory Financial
END:VEVENT
END:VCALENDAR